Package: miRcomp Version: 1.36.0 Command: /Library/Frameworks/R.framework/Resources/bin/R CMD build --keep-empty-dirs --no-resave-data miRcomp StartedAt: 2025-02-04 03:30:29 -0500 (Tue, 04 Feb 2025) EndedAt: 2025-02-04 03:31:09 -0500 (Tue, 04 Feb 2025) EllapsedTime: 40.7 seconds RetCode: 0 Status: OK PackageFile: miRcomp_1.36.0.tar.gz PackageFileSize: 3.324 MiB