Package: miRcomp Version: 1.36.0 Command: /Library/Frameworks/R.framework/Resources/bin/R CMD check --install=check:miRcomp.install-out.txt --library=/Library/Frameworks/R.framework/Resources/library --no-vignettes --timings miRcomp_1.36.0.tar.gz StartedAt: 2025-02-05 02:07:35 -0500 (Wed, 05 Feb 2025) EndedAt: 2025-02-05 02:08:21 -0500 (Wed, 05 Feb 2025) EllapsedTime: 45.9 seconds RetCode: 0 Status: WARNINGS CheckDir: miRcomp.Rcheck Warnings: 1