Package: miRcomp Version: 1.36.0 Command: /Library/Frameworks/R.framework/Resources/bin/R CMD INSTALL miRcomp StartedAt: 2025-02-03 17:04:27 -0500 (Mon, 03 Feb 2025) EndedAt: 2025-02-03 17:04:32 -0500 (Mon, 03 Feb 2025) EllapsedTime: 4.6 seconds RetCode: 0 Status: OK