Package: miRcomp Version: 1.36.0 Command: rm -rf miRcomp.buildbin-libdir && mkdir miRcomp.buildbin-libdir && /Users/biocbuild/BBS/utils/build-universal.sh miRcomp_1.36.0.tar.gz /Library/Frameworks/R.framework/Resources/bin/R miRcomp.buildbin-libdir StartedAt: 2025-02-04 13:26:54 -0500 (Tue, 04 Feb 2025) EndedAt: 2025-02-04 13:27:08 -0500 (Tue, 04 Feb 2025) EllapsedTime: 14.2 seconds RetCode: 0 Status: OK PackageFile: miRcomp_1.36.0.tgz PackageFileSize: 3.35 MiB