Package: miRcomp Version: 1.36.0 Command: /Library/Frameworks/R.framework/Resources/bin/R CMD build --keep-empty-dirs --no-resave-data miRcomp StartedAt: 2025-02-03 20:21:11 -0500 (Mon, 03 Feb 2025) EndedAt: 2025-02-03 20:22:26 -0500 (Mon, 03 Feb 2025) EllapsedTime: 75.3 seconds RetCode: 0 Status: OK PackageFile: miRcomp_1.36.0.tar.gz PackageFileSize: 3.324 MiB