Package: miRcomp Version: 1.36.0 Command: /home/biocbuild/bbs-3.20-bioc/R/bin/R CMD check --install=check:miRcomp.install-out.txt --library=/home/biocbuild/bbs-3.20-bioc/R/site-library --timings miRcomp_1.36.0.tar.gz StartedAt: 2025-02-04 00:10:53 -0500 (Tue, 04 Feb 2025) EndedAt: 2025-02-04 00:11:51 -0500 (Tue, 04 Feb 2025) EllapsedTime: 58.0 seconds RetCode: 0 Status: WARNINGS CheckDir: miRcomp.Rcheck Warnings: 1