Package: miRcomp
Version: 1.35.0
Command: C:\Users\biocbuild\bbs-3.20-bioc\R\bin\R.exe CMD INSTALL miRcomp
StartedAt: 2024-07-15 15:56:18 -0400 (Mon, 15 Jul 2024)
EndedAt: 2024-07-15 15:56:26 -0400 (Mon, 15 Jul 2024)
EllapsedTime: 7.8 seconds
RetCode: 0
Status: OK