Package: mia Version: 1.14.0 Command: /Library/Frameworks/R.framework/Resources/bin/R CMD build --keep-empty-dirs --no-resave-data mia StartedAt: 2025-02-04 03:20:38 -0500 (Tue, 04 Feb 2025) EndedAt: 2025-02-04 03:22:21 -0500 (Tue, 04 Feb 2025) EllapsedTime: 103.0 seconds RetCode: 0 Status: OK PackageFile: mia_1.14.0.tar.gz PackageFileSize: 2.982 MiB