Package: mia Version: 1.14.0 Command: rm -rf mia.buildbin-libdir && mkdir mia.buildbin-libdir && F:\biocbuild\bbs-3.20-bioc\R\bin\R.exe CMD INSTALL --build --library=mia.buildbin-libdir mia_1.14.0.tar.gz StartedAt: 2025-02-04 08:55:04 -0500 (Tue, 04 Feb 2025) EndedAt: 2025-02-04 08:57:35 -0500 (Tue, 04 Feb 2025) EllapsedTime: 150.7 seconds RetCode: 0 Status: OK PackageFile: mia_1.14.0.zip PackageFileSize: 3.542 MiB