Package: mia Version: 1.14.0 Command: chmod a+r mia -R && F:\biocbuild\bbs-3.20-bioc\R\bin\R.exe CMD build --keep-empty-dirs --no-resave-data mia StartedAt: 2025-02-03 20:20:27 -0500 (Mon, 03 Feb 2025) EndedAt: 2025-02-03 20:23:10 -0500 (Mon, 03 Feb 2025) EllapsedTime: 163.0 seconds RetCode: 0 Status: OK PackageFile: mia_1.14.0.tar.gz PackageFileSize: 2.982 MiB