Package: mia Version: 1.14.0 Command: F:\biocbuild\bbs-3.20-bioc\R\bin\R.exe CMD check --no-multiarch --install=check:mia.install-out.txt --library=F:\biocbuild\bbs-3.20-bioc\R\library --no-vignettes --timings mia_1.14.0.tar.gz StartedAt: 2025-02-04 03:42:25 -0500 (Tue, 04 Feb 2025) EndedAt: 2025-02-04 04:14:29 -0500 (Tue, 04 Feb 2025) EllapsedTime: 1924.1 seconds RetCode: 0 Status: OK CheckDir: mia.Rcheck Warnings: 0