Package: miaSim
Version: 1.12.0
Command: rm -rf miaSim.buildbin-libdir && mkdir miaSim.buildbin-libdir && /Users/biocbuild/BBS/utils/build-universal.sh miaSim_1.12.0.tar.gz /Library/Frameworks/R.framework/Resources/bin/R miaSim.buildbin-libdir
StartedAt: 2025-02-19 15:56:25 -0500 (Wed, 19 Feb 2025)
EndedAt: 2025-02-19 15:57:02 -0500 (Wed, 19 Feb 2025)
EllapsedTime: 37.5 seconds
RetCode: 0
Status: OK
PackageFile: miaSim_1.12.0.tgz
PackageFileSize: 637.9 <A href="http://en.wikipedia.org/wiki/KiB" target="_blank">KiB</A>