Package: miaSim Version: 1.12.0 Command: rm -rf miaSim.buildbin-libdir && mkdir miaSim.buildbin-libdir && /Users/biocbuild/BBS/utils/build-universal.sh miaSim_1.12.0.tar.gz /Library/Frameworks/R.framework/Resources/bin/R miaSim.buildbin-libdir StartedAt: 2025-02-04 13:25:14 -0500 (Tue, 04 Feb 2025) EndedAt: 2025-02-04 13:26:51 -0500 (Tue, 04 Feb 2025) EllapsedTime: 96.4 seconds RetCode: 0 Status: OK PackageFile: miaSim_1.12.0.tgz PackageFileSize: 710.1 KiB