Package: miaSim
Version: 1.11.0
Command: F:\biocbuild\bbs-3.20-bioc\R\bin\R.exe CMD check --no-multiarch --install=check:miaSim.install-out.txt --library=F:\biocbuild\bbs-3.20-bioc\R\library --no-vignettes --timings miaSim_1.11.0.tar.gz
StartedAt: 2024-06-10 05:19:28 -0400 (Mon, 10 Jun 2024)
EndedAt: 2024-06-10 05:27:53 -0400 (Mon, 10 Jun 2024)
EllapsedTime: 504.8 seconds
RetCode: 0
Status: OK
CheckDir: miaSim.Rcheck
Warnings: 0