Package: miaSim Version: 1.12.0 Command: /home/biocbuild/R/R/bin/R CMD INSTALL miaSim StartedAt: 2025-02-03 21:01:32 -0000 (Mon, 03 Feb 2025) EndedAt: 2025-02-03 21:02:08 -0000 (Mon, 03 Feb 2025) EllapsedTime: 35.9 seconds RetCode: 0 Status: OK