Package: miaViz Version: 1.14.0 Command: /Library/Frameworks/R.framework/Resources/bin/R CMD build --keep-empty-dirs --no-resave-data miaViz StartedAt: 2025-02-04 03:22:21 -0500 (Tue, 04 Feb 2025) EndedAt: 2025-02-04 03:24:27 -0500 (Tue, 04 Feb 2025) EllapsedTime: 126.4 seconds RetCode: 0 Status: OK PackageFile: miaViz_1.14.0.tar.gz PackageFileSize: 2.591 MiB