Package: miaViz Version: 1.14.0 Command: chmod a+r miaViz -R && F:\biocbuild\bbs-3.20-bioc\R\bin\R.exe CMD build --keep-empty-dirs --no-resave-data miaViz StartedAt: 2025-02-03 20:20:39 -0500 (Mon, 03 Feb 2025) EndedAt: 2025-02-03 20:23:14 -0500 (Mon, 03 Feb 2025) EllapsedTime: 154.9 seconds RetCode: 0 Status: OK PackageFile: miaViz_1.14.0.tar.gz PackageFileSize: 2.545 MiB