Package: miaViz
Version: 1.14.0
Command: F:\biocbuild\bbs-3.20-bioc\R\bin\R.exe CMD check --no-multiarch --install=check:miaViz.install-out.txt --library=F:\biocbuild\bbs-3.20-bioc\R\library --no-vignettes --timings miaViz_1.14.0.tar.gz
StartedAt: 2025-02-18 03:21:07 -0500 (Tue, 18 Feb 2025)
EndedAt: 2025-02-18 03:30:46 -0500 (Tue, 18 Feb 2025)
EllapsedTime: 579.1 seconds
RetCode: 0
Status: OK
CheckDir: miaViz.Rcheck
Warnings: 0