Package: microRNA
Version: 1.64.0
Command: /Library/Frameworks/R.framework/Resources/bin/R CMD check --install=check:microRNA.install-out.txt --library=/Library/Frameworks/R.framework/Resources/library --no-vignettes --timings microRNA_1.64.0.tar.gz
StartedAt: 2024-11-20 00:01:35 -0500 (Wed, 20 Nov 2024)
EndedAt: 2024-11-20 00:06:21 -0500 (Wed, 20 Nov 2024)
EllapsedTime: 285.9 seconds
RetCode: 0
Status: OK
CheckDir: microRNA.Rcheck
Warnings: 0