Package: microRNA Version: 1.64.0 Command: /Library/Frameworks/R.framework/Resources/bin/R CMD build --keep-empty-dirs --no-resave-data microRNA StartedAt: 2025-02-03 20:18:19 -0500 (Mon, 03 Feb 2025) EndedAt: 2025-02-03 20:18:27 -0500 (Mon, 03 Feb 2025) EllapsedTime: 7.5 seconds RetCode: 0 Status: OK PackageFile: microRNA_1.64.0.tar.gz PackageFileSize: 5.743 MiB