Package: microRNA
Version: 1.63.0
Command: chmod a+r microRNA -R && F:\biocbuild\bbs-3.20-bioc\R\bin\R.exe CMD build --keep-empty-dirs --no-resave-data microRNA
StartedAt: 2024-06-09 20:15:53 -0400 (Sun, 09 Jun 2024)
EndedAt: 2024-06-09 20:16:01 -0400 (Sun, 09 Jun 2024)
EllapsedTime: 7.8 seconds
RetCode: 0
Status: OK
PackageFile: microRNA_1.63.0.tar.gz
PackageFileSize: 5.742 <A href="http://en.wikipedia.org/wiki/MiB" target="_blank">MiB</A>