Package: microRNA Version: 1.64.0 Command: rm -rf microRNA.buildbin-libdir && mkdir microRNA.buildbin-libdir && F:\biocbuild\bbs-3.20-bioc\R\bin\R.exe CMD INSTALL --build --library=microRNA.buildbin-libdir microRNA_1.64.0.tar.gz StartedAt: 2025-02-04 08:55:33 -0500 (Tue, 04 Feb 2025) EndedAt: 2025-02-04 08:56:00 -0500 (Tue, 04 Feb 2025) EllapsedTime: 27.8 seconds RetCode: 0 Status: OK PackageFile: microRNA_1.64.0.zip PackageFileSize: 5.835 MiB