Package: microRNA Version: 1.64.0 Command: F:\biocbuild\bbs-3.20-bioc\R\bin\R.exe CMD INSTALL microRNA StartedAt: 2025-02-03 16:04:57 -0500 (Mon, 03 Feb 2025) EndedAt: 2025-02-03 16:05:16 -0500 (Mon, 03 Feb 2025) EllapsedTime: 19.2 seconds RetCode: 0 Status: OK