Package: microSTASIS Version: 1.6.0 Command: rm -rf microSTASIS.buildbin-libdir && mkdir microSTASIS.buildbin-libdir && /Users/biocbuild/BBS/utils/build-universal.sh microSTASIS_1.6.0.tar.gz /Library/Frameworks/R.framework/Resources/bin/R microSTASIS.buildbin-libdir StartedAt: 2025-02-01 15:43:52 -0500 (Sat, 01 Feb 2025) EndedAt: 2025-02-01 15:43:57 -0500 (Sat, 01 Feb 2025) EllapsedTime: 4.6 seconds RetCode: 0 Status: OK PackageFile: microSTASIS_1.6.0.tgz PackageFileSize: 1.471 MiB