Package: microSTASIS Version: 1.6.0 Command: /Library/Frameworks/R.framework/Resources/bin/R CMD build --keep-empty-dirs --no-resave-data microSTASIS StartedAt: 2025-01-31 03:18:52 -0500 (Fri, 31 Jan 2025) EndedAt: 2025-01-31 03:20:46 -0500 (Fri, 31 Jan 2025) EllapsedTime: 113.7 seconds RetCode: 0 Status: OK PackageFile: microSTASIS_1.6.0.tar.gz PackageFileSize: 1.43 MiB