Package: microSTASIS Version: 1.6.0 Command: /Library/Frameworks/R.framework/Resources/bin/R CMD check --install=check:microSTASIS.install-out.txt --library=/Library/Frameworks/R.framework/Resources/library --no-vignettes --timings microSTASIS_1.6.0.tar.gz StartedAt: 2025-02-01 01:09:35 -0500 (Sat, 01 Feb 2025) EndedAt: 2025-02-01 01:16:49 -0500 (Sat, 01 Feb 2025) EllapsedTime: 434.5 seconds RetCode: 0 Status: OK CheckDir: microSTASIS.Rcheck Warnings: 0