Package: microSTASIS Version: 1.6.0 Command: /Library/Frameworks/R.framework/Resources/bin/R CMD build --keep-empty-dirs --no-resave-data microSTASIS StartedAt: 2025-01-30 20:41:23 -0500 (Thu, 30 Jan 2025) EndedAt: 2025-01-30 20:44:16 -0500 (Thu, 30 Jan 2025) EllapsedTime: 173.4 seconds RetCode: 0 Status: OK PackageFile: microSTASIS_1.6.0.tar.gz PackageFileSize: 1.435 MiB