Package: microSTASIS Version: 1.6.0 Command: /Library/Frameworks/R.framework/Resources/bin/R CMD check --install=check:microSTASIS.install-out.txt --library=/Library/Frameworks/R.framework/Resources/library --no-vignettes --timings microSTASIS_1.6.0.tar.gz StartedAt: 2025-01-31 06:28:24 -0500 (Fri, 31 Jan 2025) EndedAt: 2025-01-31 06:37:40 -0500 (Fri, 31 Jan 2025) EllapsedTime: 556.5 seconds RetCode: 0 Status: OK CheckDir: microSTASIS.Rcheck Warnings: 0