Package: microSTASIS Version: 1.6.0 Command: /home/biocbuild/R/R/bin/R CMD check --install=check:microSTASIS.install-out.txt --library=/home/biocbuild/R/R/site-library --no-vignettes --timings microSTASIS_1.6.0.tar.gz StartedAt: 2025-02-04 08:47:56 -0000 (Tue, 04 Feb 2025) EndedAt: 2025-02-04 09:27:57 -0000 (Tue, 04 Feb 2025) EllapsedTime: 2400.6 seconds RetCode: None Status: TIMEOUT CheckDir: microSTASIS.Rcheck Warnings: NA