Package: midasHLA Version: 1.14.0 Command: rm -rf midasHLA.buildbin-libdir && mkdir midasHLA.buildbin-libdir && /Users/biocbuild/BBS/utils/build-universal.sh midasHLA_1.14.0.tar.gz /Library/Frameworks/R.framework/Resources/bin/R midasHLA.buildbin-libdir StartedAt: 2025-02-05 16:39:35 -0500 (Wed, 05 Feb 2025) EndedAt: 2025-02-05 16:40:16 -0500 (Wed, 05 Feb 2025) EllapsedTime: 40.9 seconds RetCode: 0 Status: OK PackageFile: midasHLA_1.14.0.tgz PackageFileSize: 2.828 MiB