Package: midasHLA Version: 1.14.0 Command: /Library/Frameworks/R.framework/Resources/bin/R CMD INSTALL midasHLA StartedAt: 2025-02-03 17:21:42 -0500 (Mon, 03 Feb 2025) EndedAt: 2025-02-03 17:22:19 -0500 (Mon, 03 Feb 2025) EllapsedTime: 37.2 seconds RetCode: 0 Status: OK