Package: midasHLA Version: 1.14.0 Command: chmod a+r midasHLA -R && F:\biocbuild\bbs-3.20-bioc\R\bin\R.exe CMD build --keep-empty-dirs --no-resave-data midasHLA StartedAt: 2025-02-03 20:22:08 -0500 (Mon, 03 Feb 2025) EndedAt: 2025-02-03 20:25:23 -0500 (Mon, 03 Feb 2025) EllapsedTime: 195.1 seconds RetCode: 0 Status: OK PackageFile: midasHLA_1.14.0.tar.gz PackageFileSize: 1.863 MiB