Package: midasHLA Version: 1.14.0 Command: F:\biocbuild\bbs-3.20-bioc\R\bin\R.exe CMD check --no-multiarch --install=check:midasHLA.install-out.txt --library=F:\biocbuild\bbs-3.20-bioc\R\library --no-vignettes --timings midasHLA_1.14.0.tar.gz StartedAt: 2025-02-04 03:45:14 -0500 (Tue, 04 Feb 2025) EndedAt: 2025-02-04 03:51:09 -0500 (Tue, 04 Feb 2025) EllapsedTime: 354.8 seconds RetCode: 0 Status: WARNINGS CheckDir: midasHLA.Rcheck Warnings: 1