Package: midasHLA Version: 1.14.0 Command: F:\biocbuild\bbs-3.20-bioc\R\bin\R.exe CMD INSTALL midasHLA StartedAt: 2025-02-03 16:29:15 -0500 (Mon, 03 Feb 2025) EndedAt: 2025-02-03 16:30:38 -0500 (Mon, 03 Feb 2025) EllapsedTime: 83.4 seconds RetCode: 0 Status: OK