Package: midasHLA Version: 1.14.0 Command: /home/biocbuild/R/R/bin/R CMD build --keep-empty-dirs --no-resave-data midasHLA StartedAt: 2025-02-11 00:45:25 -0000 (Tue, 11 Feb 2025) EndedAt: 2025-02-11 00:48:07 -0000 (Tue, 11 Feb 2025) EllapsedTime: 162.1 seconds RetCode: 0 Status: OK PackageFile: midasHLA_1.14.0.tar.gz PackageFileSize: 1.866 MiB