Package: mimager Version: 1.30.0 Command: rm -rf mimager.buildbin-libdir && mkdir mimager.buildbin-libdir && /Users/biocbuild/BBS/utils/build-universal.sh mimager_1.30.0.tar.gz /Library/Frameworks/R.framework/Resources/bin/R mimager.buildbin-libdir StartedAt: 2025-02-05 16:39:42 -0500 (Wed, 05 Feb 2025) EndedAt: 2025-02-05 16:40:17 -0500 (Wed, 05 Feb 2025) EllapsedTime: 35.2 seconds RetCode: 0 Status: OK PackageFile: mimager_1.30.0.tgz PackageFileSize: 1.03 MiB