Package: mimager Version: 1.30.0 Command: /Library/Frameworks/R.framework/Resources/bin/R CMD INSTALL mimager StartedAt: 2025-02-03 15:39:54 -0500 (Mon, 03 Feb 2025) EndedAt: 2025-02-03 15:40:09 -0500 (Mon, 03 Feb 2025) EllapsedTime: 15.8 seconds RetCode: 0 Status: OK