Package: mimager Version: 1.30.0 Command: /Library/Frameworks/R.framework/Resources/bin/R CMD build --keep-empty-dirs --no-resave-data mimager StartedAt: 2024-11-08 18:07:56 -0500 (Fri, 08 Nov 2024) EndedAt: 2024-11-08 18:08:18 -0500 (Fri, 08 Nov 2024) EllapsedTime: 22.2 seconds RetCode: 0 Status: OK PackageFile: mimager_1.30.0.tar.gz PackageFileSize: 1006 KiB