Package: mimager Version: 1.30.0 Command: rm -rf mimager.buildbin-libdir && mkdir mimager.buildbin-libdir && F:\biocbuild\bbs-3.20-bioc\R\bin\R.exe CMD INSTALL --build --library=mimager.buildbin-libdir mimager_1.30.0.tar.gz StartedAt: 2025-02-04 08:55:51 -0500 (Tue, 04 Feb 2025) EndedAt: 2025-02-04 08:56:26 -0500 (Tue, 04 Feb 2025) EllapsedTime: 35.2 seconds RetCode: 0 Status: OK PackageFile: mimager_1.30.0.zip PackageFileSize: 713.7 KiB