Package: mina Version: 1.14.0 Command: rm -rf mina.buildbin-libdir && mkdir mina.buildbin-libdir && /Users/biocbuild/BBS/utils/build-universal.sh mina_1.14.0.tar.gz /Library/Frameworks/R.framework/Resources/bin/R mina.buildbin-libdir StartedAt: 2025-02-05 16:40:06 -0500 (Wed, 05 Feb 2025) EndedAt: 2025-02-05 16:40:47 -0500 (Wed, 05 Feb 2025) EllapsedTime: 41.1 seconds RetCode: 0 Status: OK PackageFile: mina_1.14.0.tgz PackageFileSize: 7.661 MiB