Package: mina Version: 1.14.0 Command: /Library/Frameworks/R.framework/Resources/bin/R CMD build --keep-empty-dirs --no-resave-data mina StartedAt: 2025-01-31 03:20:46 -0500 (Fri, 31 Jan 2025) EndedAt: 2025-01-31 03:24:17 -0500 (Fri, 31 Jan 2025) EllapsedTime: 211.4 seconds RetCode: 0 Status: OK PackageFile: mina_1.14.0.tar.gz PackageFileSize: 4.018 MiB