Package: mina Version: 1.14.0 Command: /Library/Frameworks/R.framework/Resources/bin/R CMD check --install=check:mina.install-out.txt --library=/Library/Frameworks/R.framework/Resources/library --no-vignettes --timings mina_1.14.0.tar.gz StartedAt: 2025-02-04 06:23:16 -0500 (Tue, 04 Feb 2025) EndedAt: 2025-02-04 06:29:57 -0500 (Tue, 04 Feb 2025) EllapsedTime: 400.6 seconds RetCode: 0 Status: WARNINGS CheckDir: mina.Rcheck Warnings: 1