Package: mina Version: 1.14.0 Command: /home/biocbuild/bbs-3.20-bioc/R/bin/R CMD build --keep-empty-dirs --no-resave-data --md5 mina StartedAt: 2025-01-30 18:04:04 -0500 (Thu, 30 Jan 2025) EndedAt: 2025-01-30 18:05:57 -0500 (Thu, 30 Jan 2025) EllapsedTime: 113.1 seconds RetCode: 0 Status: OK PackageFile: mina_1.14.0.tar.gz PackageFileSize: 4.021 MiB