Package: mina Version: 1.14.0 Command: /home/biocbuild/bbs-3.20-bioc/R/bin/R CMD check --install=check:mina.install-out.txt --library=/home/biocbuild/bbs-3.20-bioc/R/site-library --timings mina_1.14.0.tar.gz StartedAt: 2025-02-04 00:09:26 -0500 (Tue, 04 Feb 2025) EndedAt: 2025-02-04 00:14:41 -0500 (Tue, 04 Feb 2025) EllapsedTime: 315.3 seconds RetCode: 0 Status: WARNINGS CheckDir: mina.Rcheck Warnings: 1