Package: mina Version: 1.14.0 Command: rm -rf mina.buildbin-libdir && mkdir mina.buildbin-libdir && F:\biocbuild\bbs-3.20-bioc\R\bin\R.exe CMD INSTALL --build --library=mina.buildbin-libdir mina_1.14.0.tar.gz StartedAt: 2025-01-31 09:03:03 -0500 (Fri, 31 Jan 2025) EndedAt: 2025-01-31 09:04:22 -0500 (Fri, 31 Jan 2025) EllapsedTime: 79.1 seconds RetCode: 0 Status: OK PackageFile: mina_1.14.0.zip PackageFileSize: 8.149 MiB