Package: mina Version: 1.14.0 Command: chmod a+r mina -R && F:\biocbuild\bbs-3.20-bioc\R\bin\R.exe CMD build --keep-empty-dirs --no-resave-data mina StartedAt: 2025-01-30 20:08:35 -0500 (Thu, 30 Jan 2025) EndedAt: 2025-01-30 20:11:38 -0500 (Thu, 30 Jan 2025) EllapsedTime: 183.1 seconds RetCode: 0 Status: OK PackageFile: mina_1.14.0.tar.gz PackageFileSize: 4.018 MiB