Package: mina Version: 1.14.0 Command: F:\biocbuild\bbs-3.20-bioc\R\bin\R.exe CMD check --no-multiarch --install=check:mina.install-out.txt --library=F:\biocbuild\bbs-3.20-bioc\R\library --no-vignettes --timings mina_1.14.0.tar.gz StartedAt: 2025-01-31 03:56:33 -0500 (Fri, 31 Jan 2025) EndedAt: 2025-01-31 04:01:34 -0500 (Fri, 31 Jan 2025) EllapsedTime: 301.7 seconds RetCode: 0 Status: WARNINGS CheckDir: mina.Rcheck Warnings: 1