Package: minet Version: 3.64.0 Command: rm -rf minet.buildbin-libdir && mkdir minet.buildbin-libdir && /Users/biocbuild/BBS/utils/build-universal.sh minet_3.64.0.tar.gz /Library/Frameworks/R.framework/Resources/bin/R minet.buildbin-libdir StartedAt: 2025-02-04 13:26:23 -0500 (Tue, 04 Feb 2025) EndedAt: 2025-02-04 13:26:45 -0500 (Tue, 04 Feb 2025) EllapsedTime: 21.8 seconds RetCode: 0 Status: OK PackageFile: minet_3.64.0.tgz PackageFileSize: 93.82 KiB