Package: minet Version: 3.64.0 Command: /Library/Frameworks/R.framework/Resources/bin/R CMD build --keep-empty-dirs --no-resave-data minet StartedAt: 2025-02-03 20:19:24 -0500 (Mon, 03 Feb 2025) EndedAt: 2025-02-03 20:19:26 -0500 (Mon, 03 Feb 2025) EllapsedTime: 2.2 seconds RetCode: 0 Status: OK PackageFile: minet_3.64.0.tar.gz PackageFileSize: 50.14 KiB