Package: minet Version: 3.64.0 Command: /Library/Frameworks/R.framework/Resources/bin/R CMD check --install=check:minet.install-out.txt --library=/Library/Frameworks/R.framework/Resources/library --no-vignettes --timings minet_3.64.0.tar.gz StartedAt: 2025-02-04 06:24:12 -0500 (Tue, 04 Feb 2025) EndedAt: 2025-02-04 06:24:53 -0500 (Tue, 04 Feb 2025) EllapsedTime: 40.8 seconds RetCode: 0 Status: OK CheckDir: minet.Rcheck Warnings: 0